BEGIN:VCALENDAR
VERSION:2.0
PRODID:-//wp-events-plugin.com//7.2.3.1//EN
TZID:Europe/Madrid
X-WR-TIMEZONE:Europe/Madrid
BEGIN:VEVENT
UID:82@aedipeasturias.es
DTSTART;TZID=Europe/Madrid:20221216T090000
DTEND;TZID=Europe/Madrid:20221216T113000
DTSTAMP:20221201T111305Z
URL:https://www.aedipeasturias.es/eventos/aula-virtual-planes-de-igualdad-
 y-protocolo-para-la-prevencion-y-el-tratamiento-del-acoso-sexual-y-por-raz
 on-de-sexo/
SUMMARY:Aula Virtual: Planes de Igualdad y protocolo para la prevención y 
 el tratamiento del acoso sexual y por razón de sexo
DESCRIPTION:\n\nLa actual normativa sobre igualdad obliga a las personas qu
 e forman parte de la comisión negociadora del plan de igualdad y del pr
 otocolo para la prevención y tratamiento del acoso sexual y por razón de
  sexo en el trabajo\, a estar formadas en dichas materias.\n\nAedipe Catal
 unya y AGM Abogados te ofrecemos la posibilidad de obtener un certificado
  de formación a través de esta sesión online.\n\nTras las nuevas public
 aciones y modificaciones normativas implantadas (RD 901/20 de 13 de octub
 re\, RDL 6/2019 de 1 de marzo\, Ley Orgánica 10/2022\, de 6 de septiem
 bre y Orden PCM/1047/2022\, de 1 de noviembre) se cierra un cuerpo legisl
 ativo para poder desarrollar nuestros planes de igualdad\, los cuales de
 berán ser implantados en las empresas a partir de 50 trabajadores.\n\nPa
 ra dar cumplimiento a las actualizaciones o implantaciones de nuestros pla
 nes de igualdad y protocolos\, y\, en el caso de no tenerlo todavía reali
 zado\, poder confeccionarlo a la mayor brevedad posible es necesario que 
 los profesionales involucrados tengan la preparación óptima.\n\nAdemás
 \, las empresas deberán confeccionar de manera obligatoria un protocolo p
 ara la prevención y el tratamiento del acoso sexual y por razón de sexo 
 en el trabajo\, existiendo la obligatoriedad de que las personas que neg
 ocian los planes de igualdad y protocolos estén formadas en las presente
 s materias.\n\nTodo ello sin perder de vista las recientes indicaciones de
  la Inspección de Trabajo\, que tiene en su foco para las próximas actu
 aciones la adecuada implantación y gestión de los planes de igualdad por
  las empresas.\n\n\n\nFechas y horarios:\nViernes\, 16 de diciembre de 9:0
 0 a 11:30 h.\n\nFormato: online\nPlataforma de conexión: Zoom\n\nHoras 
 lectivas: 2\,5 horas\nGrupo con plazas limitadas\n\nPrograma: Descargar 
 programa en pdf\n\nPlazas limitadas. La confirmación de plaza se hará e
 fectiva por estricto orden de recepción completa de la documentación re
 querida.\n\nLa cuota de inscripción\, que incluye la emisión del corresp
 ondiente certificado\, es:\n\nAsociados y profesionales de sus empresas\n
 •    1 profesional……………………….   80 € +21% IVA\n
 •    de 2 a 4 profesionales…….…. 150 € +21% IVA\n•    d
 e 5 a 10 profesionales…..... 200 € +21% IVA\n\nProfesionales de em
 presas sin asociados:\n•    1 profesional……………………….
  110 € +21% IVA\n•    de 2 a 4 profesionales…….…. 200 €
  +21% IVA\n•    de 5 a 10 profesionales…..... 250 € +21% IVA\
 n\n
CATEGORIES:Aula Virtual,Formación
END:VEVENT
BEGIN:VTIMEZONE
TZID:Europe/Madrid
X-LIC-LOCATION:Europe/Madrid
BEGIN:STANDARD
DTSTART:20221030T020000
TZOFFSETFROM:+0200
TZOFFSETTO:+0100
TZNAME:CET
END:STANDARD
END:VTIMEZONE
END:VCALENDAR