BEGIN:VCALENDAR
VERSION:2.0
PRODID:-//wp-events-plugin.com//7.2.3.1//EN
TZID:Europe/Madrid
X-WR-TIMEZONE:Europe/Madrid
BEGIN:VEVENT
UID:118@aedipeasturias.es
DTSTART;TZID=Europe/Madrid:20241111T093000
DTEND;TZID=Europe/Madrid:20241112T133000
DTSTAMP:20241023T140421Z
URL:https://www.aedipeasturias.es/eventos/aula-virtual-people-analytics-ni
 vel-intermedio/
SUMMARY:Aula Virtual - People Analytics. Nivel intermedio.
DESCRIPTION:\n\nLa digitalización ha transformado los procesos de negocio\
 , impactando la gestión del talento en RRHH en un entorno de elevada ince
 rtidumbre.\n\nPara enfrentar este reto\, People Analytics ofrece la oportu
 nidad de capturar\, analizar y visualizar datos de empleados y su entorno\
 , facilitando la presentación de insights clave a través de cuadros de m
 ando. Este programa tiene como objetivos principales aprender a crear un C
 uadro de Mando enfocado en desafíos de talento\, conocer técnicas de an
 álisis de datos para entender mejor sus relaciones\, identificar los insi
 ghts y KPIs más relevantes\, y aprender mejores prácticas en visualizaci
 ón de datos.\n\nLa formación se desarrollará mediante una clase magistr
 al que combina teoría y casos prácticos\, fomentando la participación a
 ctiva de los asistentes para enriquecer el conocimiento y el pensamiento c
 rítico.\n\nFechas y horarios:\n\nLunes 11  de Noviembre: De 09:30 a 13:3
 0 \n\nMartes 12  de Noviembre: De 09:30 a 13:30\n\nFormato: Online \n\n
 Plataforma: Zoom\n\nHoras lectivas: 7 horas \n\nPrograma: Descargar progr
 ama en pdf \n\nGrupo con plazas limitadas\n\nPlazas limitadas. La reserva
  de plaza se hará efectiva por estricto orden de recepción\ncompleta de 
 la documentación requerida.\n\nLa cuota de inscripción es de...\n\nAsoci
 ados ..................... 260 € + IVA\n\nNo Asociados ............... 3
 60 € + IVA\n\nReserva tu plaza a través del enlace.
CATEGORIES:Aula Virtual
END:VEVENT
BEGIN:VTIMEZONE
TZID:Europe/Madrid
X-LIC-LOCATION:Europe/Madrid
BEGIN:STANDARD
DTSTART:20241027T020000
TZOFFSETFROM:+0200
TZOFFSETTO:+0100
TZNAME:CET
END:STANDARD
END:VTIMEZONE
END:VCALENDAR