BEGIN:VCALENDAR
VERSION:2.0
PRODID:-//wp-events-plugin.com//7.2.3.1//EN
TZID:Europe/Madrid
X-WR-TIMEZONE:Europe/Madrid
BEGIN:VEVENT
UID:102@aedipeasturias.es
DTSTART;TZID=Europe/Madrid:20231127T093000
DTEND;TZID=Europe/Madrid:20231128T133000
DTSTAMP:20231113T201507Z
URL:https://www.aedipeasturias.es/eventos/aula-virtual-people-analytics-ge
 neracion-de-insights-y-visualizacion-de-datos/
SUMMARY:Aula Virtual - "People Analytics: Generación de insights y visuali
 zación de datos"
DESCRIPTION:\n\nConvocamos la 1ª edición del curso “People Analytics: G
 eneración de insights y visualización de datos”\, en formato online\, 
 con el objetivo de apoyar la toma de decisiones estratégicas de talento e
 n datos y evidencias.\n\nLa digitalización ha acelerado los procesos de n
 egocio y de creación de valor en las organizaciones\, impactando también
  a la función de Recursos Humanos\, que necesita tomar decisiones estrat
 égicas de talento en un contexto de elevada incertidumbre.\n\nPara aborda
 r con éxito este reto\, People Analytics nos ofrece la posibilidad de cap
 turar\, analizar y visualizar datos del empleado y el entorno de trabajo\,
  y poder presentar los principales insights en cuadros de mando.\n\nAdemá
 s\, esta formación de People Analytics nos va a ayudar a demostrar a nego
 cio el valor de una buena gestión del talento:\n\n- Mejorando el retorno 
 (€) de las iniciativas de RRHH y\n- Diseñando una oferta de valor más
  atractiva para el empleado.\n\n\n\nFechas y horarios:\nLunes\, 27 de novi
 embre de 9:30 a 13:30 h.\nMartes\, 28 de noviembre de 9:30 a 13:30 h.\nTut
 oría grupal:\n     Viernes\, 1 de diciembre de 9:30 a 11:00 h.\n\nForm
 ato: online\nPlataforma de conexión: Zoom\n\nHoras lectivas: 7 horas +
  1\,5 h tutoría\nGrupo con plazas limitadas\n\nPrograma: Descargar progr
 ama en pdf\n\nPlazas limitadas. La confirmación de plaza se hará efecti
 va por estricto orden de recepción completa de la documentación requeri
 da.\n\nLa cuota de inscripción es de:\n\n•    Asociados…………
 ……………. 260 € +21% IVA\n•    No Asociados…..……
 ………. 360 € +21% IVA\n\n&nbsp\;\n\n\n\n&nbsp\;
ATTACH;FMTTYPE=image/jpeg:https://www.aedipeasturias.es/wp-content/uploads
 /2023/11/unnamed-1.jpg
CATEGORIES:Aula Virtual,Formación
END:VEVENT
BEGIN:VTIMEZONE
TZID:Europe/Madrid
X-LIC-LOCATION:Europe/Madrid
BEGIN:STANDARD
DTSTART:20231029T020000
TZOFFSETFROM:+0200
TZOFFSETTO:+0100
TZNAME:CET
END:STANDARD
END:VTIMEZONE
END:VCALENDAR