BEGIN:VCALENDAR
VERSION:2.0
PRODID:-//wp-events-plugin.com//7.2.3.1//EN
TZID:Europe/Madrid
X-WR-TIMEZONE:Europe/Madrid
BEGIN:VEVENT
UID:105@aedipeasturias.es
DTSTART;TZID=Europe/Madrid:20231218T093000
DTEND;TZID=Europe/Madrid:20231219T133000
DTSTAMP:20231201T214747Z
URL:https://www.aedipeasturias.es/eventos/aula-virtual-people-analytics-fu
 ndamentos-y-ejemplos-de-uso/
SUMMARY:Aula Virtual – “People Analytics: fundamentos y ejemplos de uso
 ”
DESCRIPTION:\n\nConvocamos una nueva edición de esta formación online con
  el objetivo de mostrar cómo la analítica de datos aporta valor a la tom
 a de decisiones estratégicas de la compañía al aplicarse a lo largo del
  ciclo de vida del empleado.\n\nLa experiencia e intuición de los manager
 s del área de RRHH se ve reforzada con la aplicación de la analítica de
  datos\, que ayuda a eliminar sesgos\, a incrementar la agilidad y\, adem
 ás\, permite medir el impacto de las decisiones.\n\nEn esta formación en
 tenderemos qué es y qué no es People Analytics. Abordaremos de forma int
 roductoria el para qué de esta metodología a través de ejemplos de empr
 esas de referencia\, y profundizaremos en los aspectos para el diseño de 
 la función de People Analytics en una organización.\n\n\n\nFechas y hora
 rios:\nLunes\, 18 de diciembre de 9:30 a 13:30 h.\nMartes\, 19 de diciembr
 e de 9:30 a 13:30 h.\nTutoría grupal:\n     Miércoles\, 27 de diciemb
 re de 9:30 a 11:00 h.\n\nFormato: online\nPlataforma de conexión: Zoom\
 n\nHoras lectivas: 7 horas + 1\,5 h tutoría\nGrupo con plazas limitadas\
 n\nPrograma: Descargar programa en pdf\n\nPlazas limitadas. La confirmaci
 ón de plaza se hará efectiva por estricto orden de recepción completa
  de la documentación requerida.\n\nLa cuota de inscripción es de:\n\n•
     Asociados………………………. 260 € +21% IVA\n•  
   No Asociados…..……………. 360 € +21% IVA\n\n
ATTACH;FMTTYPE=image/jpeg:https://www.aedipeasturias.es/wp-content/uploads
 /2023/12/unnamed-3.jpg
CATEGORIES:Aula Virtual,Formación
END:VEVENT
BEGIN:VTIMEZONE
TZID:Europe/Madrid
X-LIC-LOCATION:Europe/Madrid
BEGIN:STANDARD
DTSTART:20231029T020000
TZOFFSETFROM:+0200
TZOFFSETTO:+0100
TZNAME:CET
END:STANDARD
END:VTIMEZONE
END:VCALENDAR