BEGIN:VCALENDAR
VERSION:2.0
PRODID:-//wp-events-plugin.com//7.2.3.1//EN
TZID:Europe/Madrid
X-WR-TIMEZONE:Europe/Madrid
BEGIN:VEVENT
UID:69@aedipeasturias.es
DTSTART;TZID=Europe/Madrid:20220627T100000
DTEND;TZID=Europe/Madrid:20220629T140000
DTSTAMP:20220612T104907Z
URL:https://www.aedipeasturias.es/eventos/aula-virtual-people-analytics-fu
 ndamentos-y-ejemplos-de-uso-5a-edicion/
SUMMARY:Aula Virtual -  People Analytics: fundamentos y ejemplos de uso. 5
 ª Edición
DESCRIPTION:\n\nConvocamos una nueva edición de esta formación online co
 n el objetivo de mostrar cómo la analítica de datos aporta valor a la to
 ma de decisiones estratégicas de la compañía al aplicarse a lo largo de
 l ciclo de vida del empleado.\n\nLa experiencia e intuición de los manage
 rs del área de RRHH se ve reforzada con la aplicación de la analítica d
 e datos\, que ayuda a eliminar sesgos\, a incrementar la agilidad y\, adem
 ás\, permite medir el impacto de las decisiones.\n\nEn esta formación en
 tenderemos qué es y qué no es People Analytics. Abordaremos conceptos s
 obre medición y visualización de datos\, así como aspectos clave para e
 l diseño y coordinación de proyectos de analítica de datos de RRHH en u
 na compañía.\n\nAdemás\, para entender mejor su aplicación\, revisarem
 os proyectos de referencia de diversas compañías.\n\n\n\nFechas y horari
 os:\nLunes\, 27 de junio de 10:00 a 14:00 h.\nMiércoles\, 29 de junio de 
 10:00 a 14:00 h.\nTutoría grupal:\n     Miércoles\, 13 de julio de 10
 :00 a 11:30 h.\n\nFormato: online\nPlataforma de conexión: Zoom\n\nHora
 s lectivas: 7 horas + 1\,5 h tutoría\n\nPrograma: Descargar programa en
  pdf\n\nPlazas limitadas. La confirmación de plaza se hará efectiva por 
 estricto orden de recepción completa de la documentación requerida. La c
 uota de inscripción es de:\n•    Asociados……………………
 …. 260 € +21% IVA\n•    No Asociados…..……………. 36
 0 € +21% IVA\n\n
CATEGORIES:Aula Virtual
END:VEVENT
BEGIN:VTIMEZONE
TZID:Europe/Madrid
X-LIC-LOCATION:Europe/Madrid
BEGIN:DAYLIGHT
DTSTART:20220327T030000
TZOFFSETFROM:+0100
TZOFFSETTO:+0200
TZNAME:CEST
END:DAYLIGHT
END:VTIMEZONE
END:VCALENDAR