BEGIN:VCALENDAR
VERSION:2.0
PRODID:-//wp-events-plugin.com//7.2.3.1//EN
TZID:Europe/Madrid
X-WR-TIMEZONE:Europe/Madrid
BEGIN:VEVENT
UID:78@aedipeasturias.es
DTSTART;TZID=Europe/Madrid:20221213T093000
DTEND;TZID=Europe/Madrid:20221214T133000
DTSTAMP:20221104T232157Z
URL:https://www.aedipeasturias.es/eventos/aula-virtual-people-analytics-6a
 -edicion/
SUMMARY:Aula Virtual: People Analytics – 6ª Edición
DESCRIPTION:\n\nConvocamos una nueva edición de esta formación online co
 n el objetivo de mostrar cómo la analítica de datos aporta valor a la to
 ma de decisiones estratégicas de la compañía al aplicarse a lo largo de
 l ciclo de vida del empleado.\n\nLa experiencia e intuición de los manage
 rs del área de RRHH se ve reforzada con la aplicación de la analítica d
 e datos\, que ayuda a eliminar sesgos\, a incrementar la agilidad y\, adem
 ás\, permite medir el impacto de las decisiones.\n\nEn esta formación en
 tenderemos qué es y qué no es People Analytics. Abordaremos conceptos s
 obre medición y visualización de datos\, así como aspectos clave para e
 l diseño y coordinación de proyectos de analítica de datos de RRHH en u
 na compañía.\n\nAdemás\, para entender mejor su aplicación\, revisarem
 os proyectos de referencia de diversas compañías.\n\n\n\nFechas y horari
 os:\nMartes\, 13 de diciembre de 9:30 a 13:30 h.\nMiércoles\, 14 de dicie
 mbre de 9:30 a 13:30 h.\nTutoría grupal:\n     Miércoles\, 21 de dici
 embre de 9:30 a 11:00 h.\n\nFormato: online\nPlataforma de conexión: Zo
 om\n\nHoras lectivas: 7 horas + 1\,5 h tutoría\nGrupo con plazas limitad
 as\n\nPrograma: Descargar programa en pdf\n\nPlazas limitadas. La confirm
 ación de plaza se hará efectiva por estricto orden de recepción compl
 eta de la documentación requerida.\n\nLa cuota de inscripción es de:\n\n
 •    Asociados………………………. 260 € +21% IVA\n•
     No Asociados…..……………. 360 € +21% IVA\n\n
CATEGORIES:Aula Virtual,Formación
END:VEVENT
BEGIN:VTIMEZONE
TZID:Europe/Madrid
X-LIC-LOCATION:Europe/Madrid
BEGIN:STANDARD
DTSTART:20221030T020000
TZOFFSETFROM:+0200
TZOFFSETTO:+0100
TZNAME:CET
END:STANDARD
END:VTIMEZONE
END:VCALENDAR