BEGIN:VCALENDAR
VERSION:2.0
PRODID:-//wp-events-plugin.com//7.2.3.1//EN
TZID:Europe/Madrid
X-WR-TIMEZONE:Europe/Madrid
BEGIN:VEVENT
UID:63@aedipeasturias.es
DTSTART;TZID=Europe/Madrid:20220405T090000
DTEND;TZID=Europe/Madrid:20220406T133000
DTSTAMP:20220314T203740Z
URL:https://www.aedipeasturias.es/eventos/aula-virtual-optimizacion-y-mejo
 ra-de-procesos-de-rrhh/
SUMMARY:Aula Virtual: Optimización y mejora de procesos de RRHH
DESCRIPTION:\n\n¿Quieres contar con un equipo más productivo? ¿Evitar lo
 s cuellos de botella? ¿Reducir el tiempo y gestión de los procesos?\n\nE
 n la dirección de recursos humanos existe un gran potencial sin explotar 
 para la mejora de la productividad y la eficiencia de sus procesos y proye
 ctos. Todos los profesionales de RRHH tienen una carga administrativa\, de
  gestión\, de redacción documental\, y un largo etc.\, que ocupa un tiem
 po importante. La optimización y mejora de esta carga administrativa perm
 itirá dedicar más tiempo a tareas de mayor valor para la empresa.\n\nLea
 n Office es la aplicación de los principios del Lean Management en oficin
 as y despachos\, fuera de la planta de producción\, focalizado en áreas 
 de administración y gestión. Viene aplicándose con éxito desde hace a
 ños demostrando su eficacia eliminando miles de transacciones diarias\, a
 horrando miles de horas de trabajo\, incrementando el rendimiento y foment
 ando el trabajo en equipo.\n\n\n\nFechas y horarios:\nMartes\, 5 de abril 
 de 9:00 a 13:30 h.\nMiércoles\, 6 de abril de 9:00 a 13:30 h.\n     Tu
 toría grupal:\n     Jueves\, 21 de abril de 9:00 a 10:30 h.\n\nFormato
 : online\nPlataforma de conexión: Zoom\n\nHoras lectivas: 8 horas + 1\
 ,5 h tutoría\nGrupo con plazas limitadas\n\nPrograma: Descargar programa
  en pdf\n\nPlazas limitadas. La confirmación de plaza se hará efectiva
  por estricto orden de recepción completa de la documentación requerida
 .\n\nLa cuota de inscripción es de:\n\n•    Asociados…………
 ……………. 260 € +21% IVA\n•    No Asociados…..……
 ………. 360 € +21% IVA\n\n
CATEGORIES:Aula Virtual
END:VEVENT
BEGIN:VTIMEZONE
TZID:Europe/Madrid
X-LIC-LOCATION:Europe/Madrid
BEGIN:DAYLIGHT
DTSTART:20220327T030000
TZOFFSETFROM:+0100
TZOFFSETTO:+0200
TZNAME:CEST
END:DAYLIGHT
END:VTIMEZONE
END:VCALENDAR