BEGIN:VCALENDAR
VERSION:2.0
PRODID:-//wp-events-plugin.com//7.2.3.1//EN
TZID:Europe/Madrid
X-WR-TIMEZONE:Europe/Madrid
BEGIN:VEVENT
UID:49@aedipeasturias.es
DTSTART;TZID=Europe/Madrid:20211004T090000
DTEND;TZID=Europe/Madrid:20211005T130000
DTSTAMP:20210916T190932Z
URL:https://www.aedipeasturias.es/eventos/aula-virtual-negociacion-aplicad
 a-a-rrhh/
SUMMARY:Aula Virtual – Negociación aplicada a RRHH
DESCRIPTION:\n\nEl éxito de una negociación está directamente relacionad
 o con la preparación de una estrategia acorde a lo que se negocie.\n\nDeb
 emos saber cómo enfocar una negociación para conseguir el mejor resultad
 o posible\, tanto para una parte como para la otra.\n\nPor ello\, es nuest
 ra responsabilidad\, como profesionales de recursos humanos\, prepararnos 
 adecuadamente para conseguir los mejores acuerdos posibles cuando estamos 
 negociando\, ya sea en aquellas negociaciones internas que llevamos a cabo
  con comités de empresa\, colaboradores\, etc.\, como en las externas que
  realizamos con proveedores o candidatos\, entre muchos otros.\n\nPara ell
 o\, en esta formación practicaremos situaciones similares a las que nos e
 ncontramos habitualmente\, con el objetivo de conocer\, ampliar y consolid
 ar las mejores prácticas en negociación.\n\n\n\nFechas y horarios:\nLune
 s\, 4 de octubre de 9:00 a 13:00 h.\n Martes\, 5 de octubre de 9:00 a 13:
 00 h.\nTutoría grupal:\nLunes\, 18 de octubre de 9:00 a 10:30 h.\n\nForma
 to: online\nPlataforma de conexión: Zoom\n\nHoras lectivas: 7 horas + 
 1\,5 h tutoría\nGrupo con plazas limitadas\n\nPrograma: Descargar progra
 ma en pdf\n\n
CATEGORIES:Aula Virtual
END:VEVENT
BEGIN:VTIMEZONE
TZID:Europe/Madrid
X-LIC-LOCATION:Europe/Madrid
BEGIN:DAYLIGHT
DTSTART:20210328T030000
TZOFFSETFROM:+0100
TZOFFSETTO:+0200
TZNAME:CEST
END:DAYLIGHT
END:VTIMEZONE
END:VCALENDAR