BEGIN:VCALENDAR
VERSION:2.0
PRODID:-//wp-events-plugin.com//7.2.3.1//EN
TZID:Europe/Madrid
X-WR-TIMEZONE:Europe/Madrid
BEGIN:VEVENT
UID:98@aedipeasturias.es
DTSTART;TZID=Europe/Madrid:20231114T100000
DTEND;TZID=Europe/Madrid:20231115T140000
DTSTAMP:20231029T110005Z
URL:https://www.aedipeasturias.es/eventos/aula-virtual-mapear-la-experienc
 ia-de-empleado/
SUMMARY:Aula Virtual - Mapear la experiencia de empleado
DESCRIPTION:\n\nLa Experiencia de Empleado es el modo en el que los trabaja
 dores viven su trayectoria en una empresa.\n\nPara que esta experiencia se
 a óptima\, la organización debe escuchar a su gente en cada etapa del ci
 clo de vida de los empleados\, identificando lo que denominamos momentos d
 e la verdad.\n\nLas decisiones que tome la organización que afecten a eso
 s momentos de la verdad tendrán un evidente impacto en el compromiso de s
 us profesionales.\n\nDe esta manera\, el Mapa de Experiencia de Empleado p
 asa a ser una herramienta básica de gestión\, útil para diagnosticar la
  experiencia actual de los empleados\, así como para planificar mejoras e
 n su compromiso.\n\n\n\nFechas y horarios:\nMartes\, 14 de noviembre de 10
 :00 a 14:00 h.\nMiércoles\, 15 de noviembre de 10:00 a 14:00 h.\nTutoría
  grupal:\n     Miércoles\, 22 de noviembre de 10:00 a 11:30 h.\n\nForm
 ato: online\nPlataforma de conexión: Zoom\n\nHoras lectivas: 7\,5 hora
 s + 1\,5 h tutoría\nGrupo con plazas limitadas\n\nPrograma: Descargar pr
 ograma en pdf\n\n
ATTACH;FMTTYPE=image/jpeg:https://www.aedipeasturias.es/wp-content/uploads
 /2023/10/Asturias-AVT-Mapear-Experiencia-Empleado-DT.jpg
CATEGORIES:Aula Virtual,Formación
END:VEVENT
BEGIN:VTIMEZONE
TZID:Europe/Madrid
X-LIC-LOCATION:Europe/Madrid
BEGIN:STANDARD
DTSTART:20231029T020000
TZOFFSETFROM:+0200
TZOFFSETTO:+0100
TZNAME:CET
END:STANDARD
END:VTIMEZONE
END:VCALENDAR