BEGIN:VCALENDAR
VERSION:2.0
PRODID:-//wp-events-plugin.com//7.2.3.1//EN
TZID:Europe/Madrid
X-WR-TIMEZONE:Europe/Madrid
BEGIN:VEVENT
UID:110@aedipeasturias.es
DTSTART;TZID=Europe/Madrid:20240610T093000
DTEND;TZID=Europe/Madrid:20240611T133000
DTSTAMP:20240603T205739Z
URL:https://www.aedipeasturias.es/eventos/aula-virtual-linkedin-para-atrae
 r-talento-crear-embajadores-y-posicionar-tu-empresa/
SUMMARY:Aula virtual: LinkedIn para atraer talento\, crear embajadores y po
 sicionar tu empresa
DESCRIPTION:\n\nEn un mundo donde la competencia por el talento es intensa 
 y la marca personal es más importante que nunca\, LinkedIn se ha converti
 do en una herramienta indispensable para las empresas que aspiran a atraer
  y mantener a los mejores profesionales.\n\nEn esta formación\, profundiz
 aremos en cómo aprovechar LinkedIn de forma efectiva. Exploraremos estrat
 egias paraposicionarte como el empleador de\nelección\, atraer talento de
  alto nivel y convertir a tus empleados en valiosos embajadores de marca.\
 n\nFechas y horarios:\nLunes\, 10 de junio de 9:30 a 13:30 h.\nMartes\, 11
  de junio de 9:30 a 13:30 h.\nFormato: online\nPlataforma de conexión: Zo
 om\n\nHoras lectivas: 7\,5 h.\n\nPrograma del curso: Click Aquí\n\nGrupo 
 con plazas limitadas\n\nCuota de inscripción:\nPara formalizar la reserva
  de plaza es imprescindible abonar la correspondiente cuota de inscripció
 n mediante transferencia bancaria a la cuenta de la Asociación de\nDirecc
 ión de Personas ES12 0182 4618 1702 0016 3056\n- Asociados ..............
 ....... 260 € +21% IVA\n- No Asociados ............... 360 € +21% IVA\
 n\n
ATTACH;FMTTYPE=image/jpeg:https://www.aedipeasturias.es/wp-content/uploads
 /2024/06/Asturias-AVT-Linkedin-DT.jpg
CATEGORIES:Aula Virtual,Formación
END:VEVENT
BEGIN:VTIMEZONE
TZID:Europe/Madrid
X-LIC-LOCATION:Europe/Madrid
BEGIN:DAYLIGHT
DTSTART:20240331T030000
TZOFFSETFROM:+0100
TZOFFSETTO:+0200
TZNAME:CEST
END:DAYLIGHT
END:VTIMEZONE
END:VCALENDAR