BEGIN:VCALENDAR
VERSION:2.0
PRODID:-//wp-events-plugin.com//7.2.3.1//EN
TZID:Europe/Madrid
X-WR-TIMEZONE:Europe/Madrid
BEGIN:VEVENT
UID:111@aedipeasturias.es
DTSTART;TZID=Europe/Madrid:20240625T090000
DTEND;TZID=Europe/Madrid:20240708T133000
DTSTAMP:20240605T180502Z
URL:https://www.aedipeasturias.es/eventos/aula-virtual-liderar-con-okrs-co
 mo-comprometer-a-los-equipos-con-sus-objetivos/
SUMMARY:Aula virtual: Liderar con OKRs. Cómo comprometer a los equipos con
  sus objetivos
DESCRIPTION:\n\nEn la actualidad\, el mayor grado de incertidumbre y la vel
 ocidad a la que se producen los cambios están transformando las reglas de
  juego a la hora de establecer la estrategia de las empresas y\, por tanto
 \, la forma de gestionar por objetivos. En este contexto\, la necesidad de
  contar con equipos comprometidos y que colaboren entre ellos para superar
  los retos planteados es fundamental.\n\nLa metodología OKR ayuda a las o
 rganizaciones y a las personas que las conforman a saber poner el foco en 
 lo importante en cada momento\, a ganar agilidad gracias a una mayor auton
 omía en su trabajo y\, por ende\, a mejorar el nivel de compromiso de las
  personas que trabajan en ellas.\n\nSe trata de una herramienta de lideraz
 go que permite concretar el objetivo de la empresa y alinear a todo el equ
 ipo sobre él\, estimulando a las personas a que sean ambiciosas y se supe
 ren alcanzando resultados extraordinarios.\n\n\n\nFechas y horarios:\nMart
 es\, 25 de junio de 9:00 a 13:30 h.\nLunes\, 8 de julio de 9:00 a 13:30 h.
 \n\nFormato: online\nPlataforma de conexión: Zoom\n\nHoras lectivas: 8
  horas\nGrupo con plazas limitadas\n\nPrograma: Descargar programa en pdf
 \n\nPlazas limitadas. La confirmación de plaza se hará efectiva por es
 tricto orden de recepción completa de la documentación requerida.\n\nLa 
 cuota de inscripción es de:\n•    Asociados……………………
 …. 260 € +21% IVA\n•    No Asociados…..……………. 36
 0 € +21% IVA\n\n&nbsp\;
CATEGORIES:Aula Virtual,Formación
END:VEVENT
BEGIN:VTIMEZONE
TZID:Europe/Madrid
X-LIC-LOCATION:Europe/Madrid
BEGIN:DAYLIGHT
DTSTART:20240331T030000
TZOFFSETFROM:+0100
TZOFFSETTO:+0200
TZNAME:CEST
END:DAYLIGHT
END:VTIMEZONE
END:VCALENDAR