BEGIN:VCALENDAR
VERSION:2.0
PRODID:-//wp-events-plugin.com//7.2.3.1//EN
TZID:Europe/Madrid
X-WR-TIMEZONE:Europe/Madrid
BEGIN:VEVENT
UID:119@aedipeasturias.es
DTSTART;TZID=Europe/Madrid:20241119T090000
DTEND;TZID=Europe/Madrid:20241120T133000
DTSTAMP:20241104T110915Z
URL:https://www.aedipeasturias.es/eventos/aula-virtual-inbound-recruiting-
 e-inteligencia-artificial/
SUMMARY:Aula Virtual - Inbound recruiting e Inteligencia Artificial
DESCRIPTION:\n\nSegunda Edición de nuestro curso de Inbound Recruiting y S
 elección con IA.\n\nEn un mercado laboral cada vez más digitalizado y co
 mpetitivo\, las empresas necesitan estrategias innovadoras para atraer a l
 os mejores talentos. Nuestro nuevo curso en Inbound Recruiting está dise
 ñado para que aprendas a destacar el atractivo de tu empresa y captar el 
 interés de candidatos de alto potencial utilizando metodologías de vangu
 ardia y herramientas de Inteligencia Artificial generativa.\n\nA través d
 e una formación interactiva\, obtendrás conocimientos teóricos y práct
 icos aplicables\, abarcando temas como la mejora de la experiencia del can
 didato\, optimización del proceso de selección\, análisis de datos\, é
 tica y tendencias futuras en la selección de talento. Esta es una oportun
 idad para aprender\, experimentar y adaptar las mejores prácticas en tu e
 strategia de reclutamiento.\n\nFechas y horarios:\n\nMartes 19 de Noviembr
 e: De 09:00 a 13:30 \n\nMiércoles 20  de Noviembre: De 09:00 a 13:30\n\
 nFormato: Online \n\nPlataforma: Zoom\n\nHoras lectivas: 8 horas \n\nPro
 grama: Descargar programa en pdf \n\nPlazas limitadas\n\nLa reserva de pl
 aza se hará efectiva por estricto orden de recepción\ncompleta de la doc
 umentación requerida.\n\nLa cuota de inscripción es de...\n\nAsociados .
 .................... 260 € + IVA\n\nNo Asociados ............... 360 €
  + IVA\n\nReserva tu plaza a través del enlace.
CATEGORIES:Aula Virtual
END:VEVENT
BEGIN:VTIMEZONE
TZID:Europe/Madrid
X-LIC-LOCATION:Europe/Madrid
BEGIN:STANDARD
DTSTART:20241027T020000
TZOFFSETFROM:+0200
TZOFFSETTO:+0100
TZNAME:CET
END:STANDARD
END:VTIMEZONE
END:VCALENDAR