BEGIN:VCALENDAR
VERSION:2.0
PRODID:-//wp-events-plugin.com//7.2.3.1//EN
TZID:Europe/Madrid
X-WR-TIMEZONE:Europe/Madrid
BEGIN:VEVENT
UID:53@aedipeasturias.es
DTSTART;TZID=Europe/Madrid:20211124T090000
DTEND;TZID=Europe/Madrid:20211125T133000
DTSTAMP:20211109T202249Z
URL:https://www.aedipeasturias.es/eventos/aula-virtual-hr-analytics-fundam
 entos-y-ejemplos-de-uso/
SUMMARY:Aula Virtual - HR Analytics: fundamentos y ejemplos de uso
DESCRIPTION:\n\nTras el éxito de las tres anteriores convocatorias\, convo
 camos nuevamente esta formación online con el objetivo de mostrar cómo l
 a analítica de datos aporta valor a la toma de decisiones estratégicas d
 e la compañía al aplicarse a lo largo del ciclo de vida del empleado.\n\
 nLa experiencia e intuición de los managers del área de RRHH se ve refor
 zada con la aplicación de la analítica de datos\, que ayuda a eliminar s
 esgos\, a incrementar la agilidad y\, además\, permite medir el impacto d
 e las decisiones.\n\nEn esta formación entenderemos qué es y qué no es 
 HR Analytics. Abordaremos conceptos sobre medición y visualización de da
 tos\, así como aspectos clave para el diseño y coordinación de proyecto
 s de analítica de datos de RRHH en una compañía.\n\nAdemás\, para ente
 nder mejor su aplicación\, revisaremos proyectos de referencia de diversa
 s compañías\n\n\n\nFechas y horarios:\nMiércoles\, 24 de noviembre de 9
 :30 a 13:30 h.\nJueves\, 25 de noviembre de 9:30 a 13:30 h.\nTutoría grup
 al:\nJueves\, 2 de diciembre de 9:30 a 11:00 h.\n\nFormato: online\nPlata
 forma de conexión: Zoom\n\nHoras lectivas: 7 horas + 1\,5 h tutoría\nG
 rupo con plazas limitadas\n\nPrograma: Descargar programa en pdf\n\nPlaza
 s limitadas. La confirmación de plaza se hará efectiva por estricto or
 den de recepción completa de la documentación requerida.\n\nLa cuota de 
 inscripción es de:\n•    Asociados………………………. 260
  € +21% IVA\n•    No Asociados…..……………. 360 € +
 21% IVA\n\n
CATEGORIES:Aula Virtual
END:VEVENT
BEGIN:VTIMEZONE
TZID:Europe/Madrid
X-LIC-LOCATION:Europe/Madrid
BEGIN:STANDARD
DTSTART:20211031T020000
TZOFFSETFROM:+0200
TZOFFSETTO:+0100
TZNAME:CET
END:STANDARD
END:VTIMEZONE
END:VCALENDAR