BEGIN:VCALENDAR
VERSION:2.0
PRODID:-//wp-events-plugin.com//7.2.3.1//EN
TZID:Europe/Madrid
X-WR-TIMEZONE:Europe/Madrid
BEGIN:VEVENT
UID:90@aedipeasturias.es
DTSTART;TZID=Europe/Madrid:20230620T093000
DTEND;TZID=Europe/Madrid:20230622T133000
DTSTAMP:20230503T142057Z
URL:https://www.aedipeasturias.es/eventos/aula-virtual-hr-analytics-fundam
 entos-y-ejemplos-de-uso-3/
SUMMARY:Aula Virtual – HR Analytics: fundamentos y ejemplos de uso
DESCRIPTION:\n\nCon el cierre del grupo de la 7ª edición\, abrimos una nu
 eva convocatoria de esta formación online con el objetivo de mostrar cóm
 o la analítica de datos aporta valor a la toma de decisiones estratégica
 s de la compañía al aplicarse a lo largo del ciclo de vida del empleado.
 \n\nLa experiencia e intuición de los managers del área de RRHH se ve re
 forzada con la aplicación de la analítica de datos\, que ayuda a elimina
 r sesgos\, a incrementar la agilidad y\, además\, permite medir el impact
 o de las decisiones.\n\nEn esta formación entenderemos qué es y qué no 
 es People Analytics. Abordaremos conceptos sobre medición y visualizaci
 ón de datos\, así como aspectos clave para el diseño y coordinación de
  proyectos de analítica de datos de RRHH en una compañía.\n\nAdemás\, 
 para entender mejor su aplicación\, revisaremos proyectos de referencia d
 e diversas compañías.\n\n\n\nFechas y horarios:\nMartes\, 20 de junio de
  9:30 a 13:30 h.\nJueves\, 22 de junio de 9:30 a 13:30 h.\nTutoría grupal
 :\n     Miércoles\, 28 de junio de 9:30 a 11:00 h.\n\nFormato: online
 \nPlataforma de conexión: Zoom\n\nHoras lectivas: 7 horas + 1\,5 h tuto
 ría\nGrupo con plazas limitadas\n\nPrograma: Descargar programa en pdf\n
 \nPlazas limitadas. La confirmación de plaza se hará efectiva por estric
 to orden de recepción completa de la documentación requerida.\nLa cuota 
 de inscripción es de:\n•    Asociados………………………. 
 260 € +21% IVA\n•    No Asociados…..……………. 360 €
  +21% IVA\n\n
ATTACH;FMTTYPE=image/jpeg:https://www.aedipeasturias.es/wp-content/uploads
 /2023/05/Asturias-AVT-People-Analytics-8-DT.jpg
CATEGORIES:Aula Virtual
END:VEVENT
BEGIN:VTIMEZONE
TZID:Europe/Madrid
X-LIC-LOCATION:Europe/Madrid
BEGIN:DAYLIGHT
DTSTART:20230326T030000
TZOFFSETFROM:+0100
TZOFFSETTO:+0200
TZNAME:CEST
END:DAYLIGHT
END:VTIMEZONE
END:VCALENDAR