BEGIN:VCALENDAR
VERSION:2.0
PRODID:-//wp-events-plugin.com//7.2.3.1//EN
TZID:Europe/Madrid
X-WR-TIMEZONE:Europe/Madrid
BEGIN:VEVENT
UID:83@aedipeasturias.es
DTSTART;TZID=Europe/Madrid:20221215T093000
DTEND;TZID=Europe/Madrid:20221216T133000
DTSTAMP:20221201T112034Z
URL:https://www.aedipeasturias.es/eventos/aula-virtual-gestion-integral-y-
 eficiente-del-absentismo-laboral/
SUMMARY:Aula virtual: Gestión integral y eficiente del absentismo laboral
DESCRIPTION:\n\nEn los últimos años la gestión del absentismo no ha deja
 do de ser un reto para las empresas\, y\, en muchos casos\, las circunstan
 cias generadas por la pandemia han demostrado la necesidad de afrontarlo c
 on un nuevo enfoque\, integral y eficiente\, para tratar de resolverlo ace
 rtadamente.\n\nEl enfoque tradicional\, centrado en el seguimiento y contr
 ol de los ausentes\, se ha demostrado claramente ineficaz.\n\nEs completam
 ente necesario actualizar la visión y abrir nuevos espacios a la reflexi
 ón para poder atacar este fenómeno de forma continua y con una gestión 
 renovada.\n\nEn esta formación veremos cómo hacer posible la reducción 
 del absentismo laboral\, reduciendo así el impacto directo que tiene sobr
 e la productividad\, los costes empresariales y la competitividad.\n\n\n\n
 Fecha y horario:\nJueves\, 15 de diciembre de 9:30 a 13:30 h.\nViernes\, 1
 6 de diciembre de 9:30 a 13:30 h.\n\nFormato: online\n\nHoras lectivas: 
 7 horas\nGrupo con plazas limitadas\n\nPrograma: Descargar programa en pd
 f\n\nPlazas limitadas. La confirmación de plaza se hará efectiva por e
 stricto orden de recepción completa de la documentación requerida.\nLa c
 uota de inscripción es de:\n\n•    Asociados…………………
 ……. 260 € +21% IVA\n•    No Asociados…..……………. 
 360 € +21% IVA\n\n\n\n&nbsp\;
CATEGORIES:Aula Virtual,Formación
END:VEVENT
BEGIN:VTIMEZONE
TZID:Europe/Madrid
X-LIC-LOCATION:Europe/Madrid
BEGIN:STANDARD
DTSTART:20221030T020000
TZOFFSETFROM:+0200
TZOFFSETTO:+0100
TZNAME:CET
END:STANDARD
END:VTIMEZONE
END:VCALENDAR