BEGIN:VCALENDAR
VERSION:2.0
PRODID:-//wp-events-plugin.com//7.2.3.1//EN
TZID:Europe/Madrid
X-WR-TIMEZONE:Europe/Madrid
BEGIN:VEVENT
UID:109@aedipeasturias.es
DTSTART;TZID=Europe/Madrid:20240626T100000
DTEND;TZID=Europe/Madrid:20240627T140000
DTSTAMP:20240602T205116Z
URL:https://www.aedipeasturias.es/eventos/aula-virtual-experiencia-del-emp
 leado-como-palanca-estrategica-para-el-cambio-del-compromiso-a-la-atraccio
 n-del-talento/
SUMMARY:Aula Virtual: Experiencia del Empleado como palanca estratégica pa
 ra el cambio: del compromiso a la atracción del talento
DESCRIPTION:\n\nLos nuevos retos sociales\, económicos y tecnológicos han
  situado la Experiencia del empleado (EX) en el eje de la transformación 
 organizativa.\n\nLas empresas que aspiran a ser atractivas\, innovadoras y
  eficientes demandan personas comprometidas y capaces de ir un paso más a
 llá de lo esperado. Ese reto pasa por ofrecer condiciones de trabajo just
 as y adecuadas.\n\nSin embargo\, se ha constatado que los profesionales qu
 e marcan la diferencia buscan hoy\, además\, entornos de trabajo inspirad
 ores y abiertos donde crecer\, expresar su talento auténtico\, construir 
 lazos de confianza y dejar verdadera huella.\n\nEn ese sentido\, la EX eme
 rge como un pilar clave para repensar la visión\, los procesos y las prá
 cticas de la organización\, ayudando a agilizar las operaciones\, acercan
 do las decisiones a los equipos y\, por tanto\, respondiendo de manera má
 s adecuada a las cambiantes necesidades de los clientes.\n\nEsta manera de
  entender la relación con el colaborador obliga a una revisión meticulos
 a de cada momento y punto de contacto con la empresa\, sin perder de vista
  los objetivos del negocio y aplicando una mirada de conjunto.\n\nLa EX tr
 ata\, así\, de forjar una cultura de trabajo\, una arquitectura organizac
 ional\, un esquema de relación y un liderazgo que comprendan y alineen la
 s expectativas y el potencial de nuestros profesionales con los retos del 
 negocio.\n\n\n\nFechas y horarios:\nMiércoles\, 26 de junio de 10:00 a 14
 :00 h.\nJueves\, 27 de junio de 10:00 a 14:00 h.\n\nFormato: online\nPlat
 aforma de conexión: Zoom\n\nHoras lectivas: 7'5 horas \nGrupo con plaz
 as limitadas\n\nPrograma: Descargar programa en pdf\n\n
CATEGORIES:Aula Virtual,Formación
END:VEVENT
BEGIN:VTIMEZONE
TZID:Europe/Madrid
X-LIC-LOCATION:Europe/Madrid
BEGIN:DAYLIGHT
DTSTART:20240331T030000
TZOFFSETFROM:+0100
TZOFFSETTO:+0200
TZNAME:CEST
END:DAYLIGHT
END:VTIMEZONE
END:VCALENDAR