BEGIN:VCALENDAR
VERSION:2.0
PRODID:-//wp-events-plugin.com//7.2.3.1//EN
TZID:Europe/Madrid
X-WR-TIMEZONE:Europe/Madrid
BEGIN:VEVENT
UID:50@aedipeasturias.es
DTSTART;TZID=Europe/Madrid:20211027T090000
DTEND;TZID=Europe/Madrid:20211028T133000
DTSTAMP:20210930T210232Z
URL:https://www.aedipeasturias.es/eventos/aula-virtual-evento-kaizen-para-
 optimizar-y-agilizar-procesos-y-proyectos-de-rrhh/
SUMMARY:Aula Virtual - Evento Kaizen para optimizar y agilizar procesos y p
 royectos de RRHH
DESCRIPTION:\n\nEl Evento Kaizen es una dinámica práctica en la que un eq
 uipo\, de manera intensiva\, busca soluciones a problemas detectados en un
  determinado proceso de trabajo en aras de optimizarlo\, agilizarlo y mejo
 rarlo de forma continua.\n\nEn esta formación se pretenden desarrollar\, 
 paso a paso\, las diferentes etapas necesarias para conseguir la máxima p
 roductividad y efectividad de cualquier proyecto o proceso del departament
 o de RRHH que se quiera mejorar mediante esta dinámica.\n\nDurante la for
 mación utilizaremos el proceso de selección como referencia para ejempli
 ficar y llevar a una experiencia práctica los aprendizajes de la formaci
 ón.\n\nFechas y horarios:\nMiércoles\, 27 de octubre de 9:00 a 13:30 h.\
 nJueves\, 28 de octubre de 9:00 a 13:30 h.\nTutoría grupal:\nJueves\, 11 
 de noviembre de 9:00 a 10:30 h.\n\nFormato: online\nPlataforma de conexi
 ón: Zoom\n\nHoras lectivas: 8 horas + 1\,5 h tutoría\nGrupo con plazas
  limitadas\n\nPrograma: Descargar programa en pdf\n\nPlazas limitadas. La
  confirmación de plaza se hará efectiva por estricto orden de recepci
 ón completa de la documentación requerida.\n\nLa cuota de inscripción e
 s de:\n•    Asociados………………………. 260 € +21% IV
 A\n•    No Asociados…..……………. 360 € +21% IVA\n\n
CATEGORIES:Aula Virtual
END:VEVENT
BEGIN:VTIMEZONE
TZID:Europe/Madrid
X-LIC-LOCATION:Europe/Madrid
BEGIN:DAYLIGHT
DTSTART:20210328T030000
TZOFFSETFROM:+0100
TZOFFSETTO:+0200
TZNAME:CEST
END:DAYLIGHT
END:VTIMEZONE
END:VCALENDAR