BEGIN:VCALENDAR
VERSION:2.0
PRODID:-//wp-events-plugin.com//7.2.3.1//EN
TZID:Europe/Madrid
X-WR-TIMEZONE:Europe/Madrid
BEGIN:VEVENT
UID:117@aedipeasturias.es
DTSTART;TZID=Europe/Madrid:20241113T100000
DTEND;TZID=Europe/Madrid:20241114T140000
DTSTAMP:20241104T113303Z
URL:https://www.aedipeasturias.es/eventos/aula-virtual-diseno-de-una-exper
 iencia-de-empleado-exitosa/
SUMMARY:Aula Virtual - Diseño de una experiencia de empleado exitosa
DESCRIPTION:\n\n&nbsp\;\n\nLas empresas que aspiran a ser atractivas\, inno
 vadoras y eficientes requieren profesionales comprometidos que estén disp
 uestos a ir más allá de lo esperado. Hoy en día\, los profesionales que
  realmente marcan la diferencia buscan entornos laborales inspiradores y a
 biertos que les permitan crecer\, expresar su talento auténtico\, constru
 ir lazos de confianza y dejar una huella significativa.\n\nEn este context
 o\, la Experiencia del Empleado (EX) se convierte en un pilar fundamental 
 para repensar la visión\, los procesos y las prácticas dentro de la orga
 nización. A través de la EX\, se puede agilizar la operación\, acercar 
 las decisiones a los equipos y\, en consecuencia\, responder de manera má
 s efectiva a las cambiantes necesidades de los clientes. Esta formación s
 e enfocará en comprender el alcance de la EX y su impacto tanto en la org
 anización como en el negocio. Se explorarán las dimensiones clave de la 
 EX y su conexión con los cambios organizacionales.\n\nLa formación utili
 zará una metodología que combina enfoques teóricos y prácticos. Se lle
 varán a cabo clases magistrales para establecer un marco conceptual\, deb
 ates en el aula virtual para fomentar el intercambio de ideas\, ejercicios
  prácticos en grupo para aplicar lo aprendido y análisis colectivo de ca
 sos para entender la implementación de la EX en diferentes contextos. Est
 a combinación asegurará que los participantes adquieran conocimientos y 
 habilidades que les permitirán transformar la experiencia laboral en sus 
 organizaciones.\n\nFechas y horarios:\n\nMiércoles 13 de Noviembre: De 10
 :00 a 14:00 \n\nJueves 14 de Noviembre: De 10:00 a 14:00 \n\nFormato: On
 line \n\nPlataforma: Zoom\n\nHoras lectivas: 7 horas \n\nPrograma: Desca
 rgar programa en pdf \n\nGrupo con plazas limitadas\n\nPlazas limitadas. 
 La reserva de plaza se hará\nefectiva por estricto orden de recepción\nc
 ompleta de la documentación requerida.\n\nLa cuota de inscripción es de.
 ..\n\nAsociados ..................... 260 € +21% IVA\n\nNo Asociados ...
 ............ 360 € +21% IVA\n\nReserva tu plaza a través del siguiente 
 enlace.
CATEGORIES:Aula Virtual
END:VEVENT
BEGIN:VTIMEZONE
TZID:Europe/Madrid
X-LIC-LOCATION:Europe/Madrid
BEGIN:STANDARD
DTSTART:20241027T020000
TZOFFSETFROM:+0200
TZOFFSETTO:+0100
TZNAME:CET
END:STANDARD
END:VTIMEZONE
END:VCALENDAR