BEGIN:VCALENDAR
VERSION:2.0
PRODID:-//wp-events-plugin.com//7.2.3.1//EN
TZID:Europe/Madrid
X-WR-TIMEZONE:Europe/Madrid
BEGIN:VEVENT
UID:107@aedipeasturias.es
DTSTART;TZID=Europe/Madrid:20240410T093000
DTEND;TZID=Europe/Madrid:20240411T143000
DTSTAMP:20240317T220914Z
URL:https://www.aedipeasturias.es/eventos/aula-virtual-como-mejorar-la-tom
 a-de-decisiones-de-talento-con-people-analytics-generacion-de-insights-y-v
 isualizacion-de-datos/
SUMMARY:Aula Virtual – "Cómo mejorar la toma de decisiones de talento co
 n People Analytics: Generación de insights y visualización de datos”
DESCRIPTION:\n\nConvocamos la 2ª edición del curso “Cómo mejorar la to
 ma de decisiones de talento con People Analytics: Generación de insights 
 y visualización de datos”\, en formato online\, con el objetivo de apoy
 ar la toma de decisiones estratégicas de talento en datos y evidencias.\n
 \nLa digitalización ha acelerado los procesos de negocio y de creación d
 e valor en las organizaciones\, impactando también a la función de Recur
 sos Humanos\, que necesita tomar decisiones estratégicas de talento en un
  contexto de elevada incertidumbre.\n\nPara abordar con éxito este reto\,
  People Analytics nos ofrece la posibilidad de capturar\, analizar y visua
 lizar datos del empleado y el entorno de trabajo\, y poder presentar los p
 rincipales insights en cuadros de mando.\n\nAdemás\, esta formación de P
 eople Analytics nos va a ayudar a demostrar a negocio el valor de una buen
 a gestión del talento:\n\n- Mejorando el retorno (€) de las iniciativas
  de RRHH y\n- Diseñando una oferta de valor más atractiva para el emple
 ado.\n\n\n\nFechas y horarios:\nMiércoles\, 10 de abril de 9:30 a 14:30 h
 .\nJueves\, 11 de abril de 9:30 a 14:30 h.\n     Tutoría grupal:\n  
    Viernes\, 19 de abril 9:30 a 11:00 h.\n\n\nFormato: online\nPlatafor
 ma de conexión: Zoom\n\nHoras lectivas: 9 horas + 1\,5 h tutoría\nGru
 po con plazas limitadas\n\nPrograma: Descargar programa en pdf\n\n\n\n&nb
 sp\;\n\n&nbsp\;
ATTACH;FMTTYPE=image/jpeg:https://www.aedipeasturias.es/wp-content/uploads
 /2024/03/Asturias-AVT-PA-Insights-i-visulaitzacio-de-dades-E2-DT.jpg
CATEGORIES:Aula Virtual,Formación
END:VEVENT
BEGIN:VTIMEZONE
TZID:Europe/Madrid
X-LIC-LOCATION:Europe/Madrid
BEGIN:DAYLIGHT
DTSTART:20240331T030000
TZOFFSETFROM:+0100
TZOFFSETTO:+0200
TZNAME:CEST
END:DAYLIGHT
END:VTIMEZONE
END:VCALENDAR