BEGIN:VCALENDAR
VERSION:2.0
PRODID:-//wp-events-plugin.com//7.2.3.1//EN
TZID:Europe/Madrid
X-WR-TIMEZONE:Europe/Madrid
BEGIN:VEVENT
UID:108@aedipeasturias.es
DTSTART;TZID=Europe/Madrid:20240415T093000
DTEND;TZID=Europe/Madrid:20240416T143000
DTSTAMP:20240317T221647Z
URL:https://www.aedipeasturias.es/eventos/aula-virtual-como-desarrollar-un
 a-cultura-innovadora-desde-rrhh/
SUMMARY:Aula Virtual - "Còmo desarrollar una cultura innovadora desde RRHH
 "
DESCRIPTION:\n\nLa mejor respuesta ante la posibilidad de ser superados por
  nuevos competidores es crear y desarrollar una cultura innovadora. Es una
  inversión a largo plazo frente a malgastar dinero y esfuerzo intentando 
 adaptarse al ritmo frenético del mercado.\n\nComo decía Peter Drucker\, 
 "la cultura se come a la estrategia para desayunar". Así\, necesitamos de
  un cambio cultural para que las estrategias que trazan los directivos sea
 n efectivas para cambiar a la organización.\n\nSi tu organización es con
 sciente de que es imprescindible crear y desarrollar una cultura innovador
 a\, esta formación está especialmente pensada para hacer posible este de
 sarrollo desde RRHH involucrando al resto de áreas de tu organización.\n
 \nReflexionaremos sobre cómo pensamos y actuamos ante el cambio y la ince
 rtidumbre cada vez más presente. Veremos casos de éxito\, metodologías 
 útiles y herramientas potentes para poder aplicar de inmediato.\n\nAhora 
 más que nunca se hace imprescindible adoptar una actitud y cultura innova
 dora e impulsarla desde la dirección de RRHH.\n\n\n\nFechas y horarios:\n
 Lunes\, 15 de abril de 9:00 a 13:00 h.\nMartes\, 16 de abril de 9:00 a 13:
 00 h.\n     Tutoría grupal:\n     Lunes\, 29 de abril de 9:00 a 10:
 30 h.\n\nFormato: online\nPlataforma de conexión: Zoom\n\nHoras lectiva
 s: 7 horas + 1\,5 h tutoría\nGrupo reducido con plazas limitadas\n\nProg
 rama: Descargar programa en pdf\n\n
ATTACH;FMTTYPE=image/jpeg:https://www.aedipeasturias.es/wp-content/uploads
 /2024/03/Asturias-AVT-Cultura-innovadora-DT.jpg
CATEGORIES:Aula Virtual,Formación
END:VEVENT
BEGIN:VTIMEZONE
TZID:Europe/Madrid
X-LIC-LOCATION:Europe/Madrid
BEGIN:DAYLIGHT
DTSTART:20240331T030000
TZOFFSETFROM:+0100
TZOFFSETTO:+0200
TZNAME:CEST
END:DAYLIGHT
END:VTIMEZONE
END:VCALENDAR