BEGIN:VCALENDAR
VERSION:2.0
PRODID:-//wp-events-plugin.com//7.2.3.1//EN
TZID:Europe/Madrid
X-WR-TIMEZONE:Europe/Madrid
BEGIN:VEVENT
UID:126@aedipeasturias.es
DTSTART;TZID=Europe/Madrid:20250312T090000
DTEND;TZID=Europe/Madrid:20250313T130000
DTSTAMP:20250220T164739Z
URL:https://www.aedipeasturias.es/eventos/aula-virtual-cocreando-culturas-
 inclusivas/
SUMMARY:Aula Virtual: Cocreando Culturas Inclusivas
DESCRIPTION:\n\nLa diversidad en el entorno laboral no es solo una tendenci
 a\, es una necesidad estratégica.\n\nUna cultura inclusiva impulsa la inn
 ovación\, refuerza el compromiso y fomenta entornos más equitativos y co
 laborativos.\n\nPero\, ¿cómo transformar los principios de diversidad\, 
 equidad e inclusión en acciones concretas dentro de tu organización?\n\n
 Te invitamos a participar en nuestra formación "Cocreando Culturas Inclus
 ivas"\, un programa práctico diseñado para dotarte de herramientas efect
 ivas en la gestión de la diversidad.  A lo largo de dos sesiones interac
 tivas\, abordaremos el liderazgo inclusivo\, la gestión de sesgos inconsc
 ientes y la importancia de construir equipos intergeneracionales que fomen
 ten la colaboración y la creatividad.\n\nInscríbete a esta formación de
 sarrollada en colaboración con Both y lidera el cambio hacia una cultura 
 más inclusiva.\n\nPrograma: Descargar programa en PDF\n\nFechas y horario
 s:\n\nMiércoles 12 de Marzo: De 09:00 a 13:00h\n\nJueves 13 de Marzo: De 
 09:00 a 13:00h\n\nFormato: Online\n\nPlataforma: Zoom\n\nHoras lectivas: 7
  horas\n\nPlazas limitadas.\n\nLa reserva de plaza se hará efectiva por e
 stricto orden de recepción\ncompleta de la documentación requerida.\n\nL
 a cuota de inscripción es de…\n\nAsociados ………………… 260 
 € + IVA\n\nNo Asociados …………… 440 € + IVA\n\nReserva tu plaz
 a a través del enlace
CATEGORIES:Aula Virtual,Formación
END:VEVENT
BEGIN:VTIMEZONE
TZID:Europe/Madrid
X-LIC-LOCATION:Europe/Madrid
BEGIN:STANDARD
DTSTART:20241027T020000
TZOFFSETFROM:+0200
TZOFFSETTO:+0100
TZNAME:CET
END:STANDARD
END:VTIMEZONE
END:VCALENDAR