BEGIN:VCALENDAR
VERSION:2.0
PRODID:-//wp-events-plugin.com//7.2.3.1//EN
TZID:Europe/Madrid
X-WR-TIMEZONE:Europe/Madrid
BEGIN:VEVENT
UID:27@aedipeasturias.es
DTSTART;TZID=Europe/Madrid:20201008T183000
DTEND;TZID=Europe/Madrid:20201008T190000
DTSTAMP:20201002T175408Z
URL:https://www.aedipeasturias.es/eventos/asamblea-general-ordinaria/
SUMMARY:Asamblea General Ordinaria
DESCRIPTION:\n\nORDEN DEL DIA\n\n1.      Apertura de la Asamblea\n\n2.
       Presentación de la Memoria de Actividades del Ejercicio 2019\n
 \n3.      Presentación y Aprobación\, en su caso\, de las Cuentas d
 el Ejercicio Económico 2019\n\n4.      Presentación y Aprobación\,
  en su caso\, del Presupuesto de Ingresos y Gastos del Ejercicio 2020\n\n5
 .      Ruegos y preguntas
CATEGORIES:Asamblea
LOCATION:Salón de Actos de FADE\,  C/ Alfonso Pintor Luis Fernández\,2\, 
 Oviedo\, Asturias\, 33005\, España
X-APPLE-STRUCTURED-LOCATION;VALUE=URI;X-ADDRESS= C/ Alfonso Pintor Luis Fer
 nández\,2\, Oviedo\, Asturias\, 33005\, España;X-APPLE-RADIUS=100;X-TITL
 E=Salón de Actos de FADE:geo:0,0
END:VEVENT
BEGIN:VTIMEZONE
TZID:Europe/Madrid
X-LIC-LOCATION:Europe/Madrid
BEGIN:DAYLIGHT
DTSTART:20200329T030000
TZOFFSETFROM:+0100
TZOFFSETTO:+0200
TZNAME:CEST
END:DAYLIGHT
END:VTIMEZONE
END:VCALENDAR