BEGIN:VCALENDAR
VERSION:2.0
PRODID:-//wp-events-plugin.com//7.2.3.1//EN
TZID:Europe/Madrid
X-WR-TIMEZONE:Europe/Madrid
BEGIN:VEVENT
UID:76@aedipeasturias.es
DTSTART;TZID=Europe/Madrid:20221110T190000
DTEND;TZID=Europe/Madrid:20221110T201500
DTSTAMP:20221026T093819Z
URL:https://www.aedipeasturias.es/eventos/asamblea-general-ordinaria-de-as
 ociados-as-de-aedipe-2022/
SUMMARY:Asamblea General Ordinaria de Asociados/as de AEDIPE 2022
DESCRIPTION:Día: 10 de noviembre de 2022\nHora: 18.40 h. primera convoca
 toria / 19.10 h. segunda convocatoria.\nLugar: (formato híbrido)\n- Prese
 ncial: Sede San Telmo Business School de Sevilla (Avenida de la mujer trab
 ajadora 1\, Sevilla) - EN EL MARCO DEL 55º CONGRESO DE AEDIPE. Inscríbet
 e al Congreso en la web https://www.congresoaedipe.com/\n- Virtual: Onlin
 e\, vía Zoom. Inscríbete a la asamblea en formato virtual aquí.\n\nORDE
 N DEL DÍA:\n1. Lectura y aprobación\, si procede\, del acta de la reuni
 ón anterior.\n2. Presentación de la memoria de actividades de AEDIPE en 
 2021.\n3. Lectura y aprobación\, si procede\, del balance económico y cu
 enta de resultados de 2021.\n4. Lectura y aprobación\, si procede\, del p
 resupuesto de 2023.\n5. Ruegos y preguntas.\n\nSi no puede asistir\, puede
  enviar su delegación de voto a la dirección de correo electrónico voto
 delegado22@aedipe.es incluyendo su nombre completo\, DNI escaneado\, deleg
 ación territorial de AEDIPE a la que pertenece\, firma escaneada y person
 a asociada de AEDIPE que asista a la Asamblea en la que desee delegar\, o 
 delegación de voto en el presidente nacional de AEDIPE\, D. Pedro Ribes P
 reckler (DNI nº 35060874L).\n\nPara más información\, puede ponerse en 
 contacto a través de la dirección de correo electrónico info@aedipe.e
 s
CATEGORIES:Asamblea
END:VEVENT
BEGIN:VTIMEZONE
TZID:Europe/Madrid
X-LIC-LOCATION:Europe/Madrid
BEGIN:STANDARD
DTSTART:20221030T020000
TZOFFSETFROM:+0200
TZOFFSETTO:+0100
TZNAME:CET
END:STANDARD
END:VTIMEZONE
END:VCALENDAR