BEGIN:VCALENDAR
VERSION:2.0
PRODID:-//wp-events-plugin.com//7.2.3.1//EN
TZID:Europe/Madrid
X-WR-TIMEZONE:Europe/Madrid
BEGIN:VEVENT
UID:86@aedipeasturias.es
DTSTART;TZID=Europe/Madrid:20230224T170000
DTEND;TZID=Europe/Madrid:20230224T193000
DTSTAMP:20230210T134233Z
URL:https://www.aedipeasturias.es/eventos/asamblea-general-ordinaria-2/
SUMMARY:Asamblea General ordinaria
DESCRIPTION:\n\nSe convoca a todos los asociados a la Asamblea General ordi
 naria que\, conforme al\nartículo 14 de los Estatutos\, se celebrará en 
 primera convocatoria a las 17:00 horas del\n24 de febrero\, en la Sala Pol
 ivalente de FADE en la calle Pintor Luis Fernández 2\nOviedo.\n\nEl orden
  del día será el siguiente:\n1. Memoria de actividades y cuentas año 20
 21\n2. Memoria de actividades y cuentas año 2022\n\nLa documentación ref
 erida en el orden del día está disponible en la zona reservada a\nlas pe
 rsonas asociadas en la Web de la asociación www.aedipeasturias.es\n\nLos 
 asociados\, cuando no puedan asistir a la Asamblea General podrán delegar
  su voto\nen otro asociado. La delegación se hará por escrito\, con indi
 cación del nombre y\napellidos del asociado en quien se delega\, acto par
 a el que se delega\, fecha\, número\nde DNI.\, nombre\, apellidos y firma
  del delegante. Transcurrido el acto\, la delegación\nperderá su validez
 \, salvo en el caso de suspensión del acto y convocatoria de nueva\nfecha
 .
CATEGORIES:Asamblea
END:VEVENT
BEGIN:VTIMEZONE
TZID:Europe/Madrid
X-LIC-LOCATION:Europe/Madrid
BEGIN:STANDARD
DTSTART:20221030T020000
TZOFFSETFROM:+0200
TZOFFSETTO:+0100
TZNAME:CET
END:STANDARD
END:VTIMEZONE
END:VCALENDAR