BEGIN:VCALENDAR
VERSION:2.0
PRODID:-//wp-events-plugin.com//7.2.3.1//EN
TZID:Europe/Madrid
X-WR-TIMEZONE:Europe/Madrid
BEGIN:VEVENT
UID:29@aedipeasturias.es
DTSTART;TZID=Europe/Madrid:20201209T180000
DTEND;TZID=Europe/Madrid:20201209T190000
DTSTAMP:20201203T220105Z
URL:https://www.aedipeasturias.es/eventos/asamblea-general-aedipe/
SUMMARY:Asamblea General Ordinaria Aedipe 2020
DESCRIPTION:Orden del día de la Asamblea General Ordinaria de la Asociaci
 ón Española de\nDirección y Desarrollo de Personas (AEDIPE) 2020:\n\n1.
  Lectura y aprobación\, si procede\, del acta de la reunión anterior.\n2
 . Saludo de D. Juan Pablo Borregón Baños\, presidente nacional de AEDIPE
 . Balance de\npresidencia 2016-2020.\n3. Presentación de la memoria de ac
 tividades de AEDIPE en 2019.\n4. Lectura y aprobación\, si procede\, del 
 balance económico y cuenta de resultados de\n2019.\n5. Lectura y aprobaci
 ón\, si procede\, del presupuesto de 2021.\n6. Presentación de las nueva
 s Juntas Territoriales de AEDIPE.\n7. Ruegos y preguntas.\nSi no puedes as
 istir\, puedes enviar tu delegación de voto a la dirección de correo\nel
 ectrónico votodelegado20@aedipe.es incluyendo tu nombre completo\, DNI\ne
 scaneado\, delegación territorial de AEDIPE a la que pertenece\, firma es
 caneada y\npersona asociada de AEDIPE que asiste a la Asamblea en la que d
 esee delegar\, o\ndelegación de voto en el presidente nacional de AEDIPE\
 , D. Juan Pablo Borregón Baños\n(DNI no 12743702T).\n\nInscripción &gt\
 ; https://register.gotowebinar.com/register/4925488147698010636
ATTACH;FMTTYPE=image/jpeg:https://www.aedipeasturias.es/wp-content/uploads
 /2019/12/asamblea-aedipe-asturias.png
CATEGORIES:Asamblea
END:VEVENT
BEGIN:VTIMEZONE
TZID:Europe/Madrid
X-LIC-LOCATION:Europe/Madrid
BEGIN:STANDARD
DTSTART:20201025T020000
TZOFFSETFROM:+0200
TZOFFSETTO:+0100
TZNAME:CET
END:STANDARD
END:VTIMEZONE
END:VCALENDAR