BEGIN:VCALENDAR
VERSION:2.0
PRODID:-//wp-events-plugin.com//7.2.3.1//EN
TZID:Europe/Madrid
X-WR-TIMEZONE:Europe/Madrid
BEGIN:VEVENT
UID:103@aedipeasturias.es
DTSTART;TZID=Europe/Madrid:20231213T193000
DTEND;TZID=Europe/Madrid:20231213T220000
DTSTAMP:20231201T093617Z
URL:https://www.aedipeasturias.es/eventos/afterwork-navideno-solidario/
SUMMARY:Afterwork Navideño Solidario
DESCRIPTION:\n\n&nbsp\;\n\nEstimad@ asociad@\,\n\nEs un placer para nosotro
 s invitarte al Afterwork Navideño Solidario de AEDIPE Asturias\, un event
 o especial de profesionales de Recursos Humanos para celebrar juntos el es
 píritu festivo y el éxito del año que está por terminar. En esta ocasi
 ón con fines solidarios ya que los beneficios de la entrada irán destina
 dos a la organización CRUZ ROJA de Asturias.\n\n&nbsp\;\n\nFecha: 13 de d
 iciembre\n\nHora: 19:30 h\n\nLugar: Tierra Astur El Vasco (C/ Víctor Chá
 varri Oviedo)\n\nInscripciones: https://acortar.link/4pC6Dc\n\n&nbsp\;\n\n
 Es una gran oportunidad para conectarnos en un ambiente relajado y compart
 ir experiencias\, ideas y perspectivas sobre el mundo de los Recursos Huma
 nos. Habrá momentos para la conversación casual\, así como una activida
 d divertida previa a la espicha\, que nos permitirán conocer mejor a nues
 tros colegas y construir lazos profesionales duraderos.\n\nAdemás\, no fa
 ltarán las sorpresas navideñas y una espicha tradicional deliciosa para 
 que podamos disfrutar de una velada inolvidable.\n\nPor favor\, realiza tu
  inscripción antes del 6 de diciembre para que podamos prepara todo a la 
 medida y juntos hacer de esta Navidad una experiencia memorable.\n\nSi des
 eas acudir con acompañante\, debéis hacer la inscripción en el enlace h
 ttps://acortar.link/4pC6Dc  añadiendo a tu nombre la palabra acompañant
 e y realizando una transferencia de 20 euros (10 €/persona).\n\n¡Espera
 mos contar con tu presencia en esta celebración especial!\n\n&nbsp\;\n\n&
 nbsp\;
CATEGORIES:AfterWork
END:VEVENT
BEGIN:VTIMEZONE
TZID:Europe/Madrid
X-LIC-LOCATION:Europe/Madrid
BEGIN:STANDARD
DTSTART:20231029T020000
TZOFFSETFROM:+0200
TZOFFSETTO:+0100
TZNAME:CET
END:STANDARD
END:VTIMEZONE
END:VCALENDAR