BEGIN:VCALENDAR
VERSION:2.0
PRODID:-//wp-events-plugin.com//7.2.3.1//EN
TZID:Europe/Madrid
X-WR-TIMEZONE:Europe/Madrid
BEGIN:VEVENT
UID:93@aedipeasturias.es
DTSTART;TZID=Europe/Madrid:20230928T090000
DTEND;TZID=Europe/Madrid:20230929T143000
DTSTAMP:20230622T170200Z
URL:https://www.aedipeasturias.es/eventos/56o-congreso-internacional-de-ae
 dipe/
SUMMARY:56º Congreso Internacional de AEDIPE 28/29 Septiembre Zaragoza
DESCRIPTION:\nWEB OFICIAL CONGRESO ►\nLa cita anual imprescindible para l
 os profesionales de Gestión de Personas\n¡Inscríbete ya!\n\nAPRENDEREMO
 S ACERCA DE\nDigitalización y Tecnología - Nuevos Modelos Organizacional
 es - Liderazgo en la Nueva Era - Atracción y Desarrollo Sostenible de Ta
 lento - Bienestar en la Empresa - Igualdad y Diversidad - Eficiencia y Sos
 tenibilidad\nPrograma completo: https://aedipe.es/56CongresoAEDIPE2023.pd
 f\n\nPrecios especiales para asociados/as\, jubilados\, estudiantes\, dese
 mpleados/as y grupos. Descuentos en RENFE y descuentos en hoteles para con
 gresistas (desde la web). \nPincha aquí y descarga el pdf con toda la in
 formación.\nAlgunos de los ponentes de esta edición\n            
                                         \n\n     
     Mario Alonso Puig                                  
   Mireia Las Heras                                    
  Alícia Trepat\n\n&nbsp\;\n\n                            
                          \n\n             Clara Arpa 
                                                  P
 eter Lozano                                          
  Rubén Agote\n\n&nbsp\;\n\n                              
                       \n\n           Àngels Fitó    
                                                  
  Alejo Ecube                                         
    Loles Salas\n►Conoce aquí al resto de nuestros ponentes\nEstas empr
 esas están comprometidas con la Gestión de Personas Sostenible. Agradec
 emos su apoyo sin el cual este Congreso no podría ser posible.\n\nMÁS IN
 FORMACIÓN - ORGANIZACIÓN 56º CONGRESO\nMarketing: Mª Carmen Ortiz. Em
 ail: mcarmen@aedipe.es Móvil: 619529512\nComunicación: Elvia Melchor.
  Email: elvia@aedipe.es Móvil: 649720131\nInformación general: 56cong
 reso@aedipe.es\nWeb: https://www.congresoaedipe.com
ATTACH;FMTTYPE=image/jpeg:https://www.aedipeasturias.es/wp-content/uploads
 /2023/06/savethedate.png
CATEGORIES:Congreso
END:VEVENT
BEGIN:VTIMEZONE
TZID:Europe/Madrid
X-LIC-LOCATION:Europe/Madrid
BEGIN:DAYLIGHT
DTSTART:20230326T030000
TZOFFSETFROM:+0100
TZOFFSETTO:+0200
TZNAME:CEST
END:DAYLIGHT
END:VTIMEZONE
END:VCALENDAR