BEGIN:VCALENDAR
VERSION:2.0
PRODID:-//wp-events-plugin.com//7.2.3.1//EN
TZID:Europe/Madrid
X-WR-TIMEZONE:Europe/Madrid
BEGIN:VEVENT
UID:77@aedipeasturias.es
DTSTART;TZID=Europe/Madrid:20221110T090000
DTEND;TZID=Europe/Madrid:20221111T184000
DTSTAMP:20221104T230343Z
URL:https://www.aedipeasturias.es/eventos/55o-congreso-internacional-de-ae
 dipe-live-streaming/
SUMMARY:55º CONGRESO INTERNACIONAL DE AEDIPE - LIVE STREAMING
DESCRIPTION:\n\nINSCRIPCIÓN STREAMING ASOCIADO/A DE AEDIPE\n\nINSCRIPCIÓN
  STREAMING NO ASOCIADO/A DE AEDIPE \n\nINSCRÍBETE AL STREAMING EN DIR
 ECTO DEL 55º CONGRESO DE AEDIPE\n\nAEDIPE organiza su 55º Congreso In
 ternacional de profesionales de Recursos Humanos en Sevilla\, en la sede
  de la prestigiosa escuela de negocios San Telmo Business School\, los d
 ías 10 y 11 de noviembre de 2022.\n\nPara todos/as aquellos/as que no po
 dáis acompañarnos presencialmente\, hemos habilitado la opción de asis
 tencia virtual para que no os perdáis esta gran cita de los Recursos Hum
 anos: más de 40 ponentes compartirán con nosotros su conocimiento y exp
 eriencia y sus innovadoras políticas de Gestión de Personas.\n\nDescarga
  aquí el PROGRAMA del STREAMING\n\nMás información en https://www.cong
 resoaedipe.com/\n\n\n\nGRACIAS A NUESTROS PATROCINADORES\n\n\n\n&nbsp\;\n\
 nMÁS INFORMACIÓN - AEDIPE\n\n 	Email: 55congreso@aedipe.es\n 	Marketing
  - Mª Carmen Ortiz - mcarmen@aedipe.es / 619529512\n 	Comunicación -
  Elvia Melchor - elvia@aedipe.es / 649720131\n\n&nbsp\;
CATEGORIES:Congreso
END:VEVENT
BEGIN:VTIMEZONE
TZID:Europe/Madrid
X-LIC-LOCATION:Europe/Madrid
BEGIN:STANDARD
DTSTART:20221030T020000
TZOFFSETFROM:+0200
TZOFFSETTO:+0100
TZNAME:CET
END:STANDARD
END:VTIMEZONE
END:VCALENDAR