BEGIN:VCALENDAR
VERSION:2.0
PRODID:-//wp-events-plugin.com//7.2.3.1//EN
TZID:Europe/Madrid
X-WR-TIMEZONE:Europe/Madrid
BEGIN:VEVENT
UID:73@aedipeasturias.es
DTSTART;TZID=Europe/Madrid:20221110T090000
DTEND;TZID=Europe/Madrid:20221111T143000
DTSTAMP:20221012T193925Z
URL:https://www.aedipeasturias.es/eventos/55o-congreso-internacional-de-ae
 dipe-10-y-11-de-noviembre-en-sevilla-nuevas-formas-de-trabajar/
SUMMARY:55º Congreso Internacional de AEDIPE - 10 y 11 de noviembre - Sevi
 lla  - "(NUEVAS) FORMAS DE TRABAJAR"
DESCRIPTION:\n\nINSCRÍBETE YA AL 55º CONGRESO DE AEDIPE\n10 y 11 de novie
 mbre en Sevilla: https://www.congresoaedipe.com/\nMás info: 55congreso@
 aedipe.es\n\nCONSULTA Y DESCARGA AQUÍ EL PROGRAMA COMPLETO\n\nComo cada 
 año\, AEDIPE organiza el Congreso Internacional de profesionales de Rec
 ursos Humanos. En esta ocasión lo celebraremos en Sevilla\, en la sede d
 e la prestigiosa escuela de negocios San Telmo Business School\, los día
 s 10 y 11 de noviembre de 2022.\n\nBajo el lema “(Nuevas) Formas de Trab
 ajar”\, el Congreso de este año girará en torno a 6 grandes bloques t
 emáticos que se corresponden con las 6 grandes tendencias y retos en Ges
 tión de Personas: Flexibilidad\, Digitalización\, Trabajo colaborativo\
 , Atracción y fidelización del talento\, Bienestar del empleado y Sosten
 ibilidad. En cada uno de estos bloques contaremos con ponentes expertos en
  la materia que nos explicarán de una forma completa y detallada las tend
 encias actuales\, además de una mesa de experiencias empresariales que se
 guro nos inspirarán a la hora de poner en práctica en nuestras organizac
 iones estas políticas.\n\nEl Congreso Internacional de AEDIPE\, de dos d
 ías de duración\, es la actividad más importante de la asociación en 
 la que los profesionales de Recursos Humanos tenemos la oportunidad de com
 partir conocimiento\, experiencia y buenas prácticas\, además de disfrut
 ar de un tiempo de ocio en un marco incomparable. ¡No te lo pierdas!\n\n\
 n\nMÁS INFORMACIÓN - AEDIPE\n\n·         Email: 55congreso@ae
 dipe.es\n\n·         Marketing - Mª Carmen Ortiz - mcarmen@ae
 dipe.es / 619529512\n\n·         Comunicación - Elvia Melchor
  - elvia@aedipe.es / 649720131
ATTACH;FMTTYPE=image/jpeg:https://www.aedipeasturias.es/wp-content/uploads
 /2022/10/Cabecero-news_2.jpg
CATEGORIES:Congreso
END:VEVENT
BEGIN:VTIMEZONE
TZID:Europe/Madrid
X-LIC-LOCATION:Europe/Madrid
BEGIN:STANDARD
DTSTART:20221030T020000
TZOFFSETFROM:+0200
TZOFFSETTO:+0100
TZNAME:CET
END:STANDARD
END:VTIMEZONE
END:VCALENDAR