BEGIN:VCALENDAR
VERSION:2.0
PRODID:-//wp-events-plugin.com//7.2.3.1//EN
TZID:Europe/Madrid
X-WR-TIMEZONE:Europe/Madrid
BEGIN:VEVENT
UID:52@aedipeasturias.es
DTSTART;TZID=Europe/Madrid:20211104T090000
DTEND;TZID=Europe/Madrid:20211105T143000
DTSTAMP:20211102T130704Z
URL:https://www.aedipeasturias.es/eventos/54o-congreso-de-la-asociacion-es
 panola-de-desarrollo-de-personas-aedipe/
SUMMARY:54º Congreso de la Asociación Española de Desarrollo de Personas
  (AEDIPE)
DESCRIPTION:AEDIPE Galicia organiza con mucha ilusión el 54º Congreso de 
 la Asociación Española de Desarrollo de Personas (AEDIPE) en la ciudad d
 e Vigo coincidiendo con la celebración del X Congreso Internacional de Fe
 licidad en el Trabajo – FET – que\, desde el año 2010\, organiza la t
 erritorial gallega\, promoviendo la mejora de los entornos laborales a tra
 vés de la divulgación de investigaciones en materia de bienestar laboral
  y de experiencias empresariales.\n\nFechas: 4 y 5 de noviembre en la ciud
 ad de Vigo en formato híbrido.\n\nToda la información en el siguiente en
 lace https://lnkd.in/dBiz8s9i\n\n&nbsp\;\n\nSi no puedes desplazarte a Vi
 go para asistir al 54º Congreso de AEDIPE \n\n\n\n¡Puedes conectarte tam
 bién de forma virtual! \n\n\n\nDisfrutarás de un completo programa cient
 ífico con grandes ponentes que nos hablarán de liderazgo\, transformaci
 ón\, estrategia\, experiencia del empleado\, psicología positiva\, empre
 sas resilientes\, organizaciones inteligentes\, emociones... \n\n\n\n¡Vam
 os\, que no te lo puedes perder! \n\n\n\nInscripciones virtuales:\n\n\n30
 €+IVA asociados\n45€+IVA no asociados\n30€+IVA desempleados\n
ATTACH;FMTTYPE=image/jpeg:https://www.aedipeasturias.es/wp-content/uploads
 /2021/11/Congreso-Vigo.jpg
CATEGORIES:Congreso
END:VEVENT
BEGIN:VTIMEZONE
TZID:Europe/Madrid
X-LIC-LOCATION:Europe/Madrid
BEGIN:STANDARD
DTSTART:20211031T020000
TZOFFSETFROM:+0200
TZOFFSETTO:+0100
TZNAME:CET
END:STANDARD
END:VTIMEZONE
END:VCALENDAR