BEGIN:VCALENDAR
VERSION:2.0
PRODID:-//wp-events-plugin.com//7.2.3.1//EN
TZID:Europe/Madrid
X-WR-TIMEZONE:Europe/Madrid
BEGIN:VEVENT
UID:72@aedipeasturias.es
DTSTART;TZID=Europe/Madrid:20221005T160000
DTEND;TZID=Europe/Madrid:20221006T190000
DTSTAMP:20220930T102703Z
URL:https://www.aedipeasturias.es/eventos/20-foro-de-empleo-de-la-universi
 dad-de-oviedo/
SUMMARY:20 Foro de Empleo de la Universidad de Oviedo
DESCRIPTION:En este año 2022\, designado por la Comisión Europea como el 
 “Año Europeo de la Juventud”\, la Universidad de Oviedo recupera el F
 oro de Empleo en formato presencial. El Foro ofrece un espacio de encuentr
 o e intercambio de experiencias y conocimientos entre empresas\, instituci
 ones\, estudiantes y personas egresadas de la Universidad de Oviedo.\n\nEl
  Foro de Empleo es una apuesta de la Universidad de Oviedo por la transfer
 encia de talento como vía para aumentar el impacto de la institución sob
 re la sociedad\, construyendo puentes entre las aulas y el mercado laboral
 . Invertir en talento joven es invertir en un futuro mejor.\n\nEl 20 Foro
  de empleo Universidad de Oviedo se celebrará los días 5 y 6 de octubre
  de 2022\, en el "Pabellón Asturias" del Recinto Ferial Luis Adaro de Gij
 ón.\n\nEl Foro ofrece un espacio de encuentro e intercambio de experienc
 ias y conocimientos entre empresas\, instituciones\, estudiantes y egresad
 os y egresadas de la Universidad de Oviedo.\n\nPara estudiantes y personas
  ya egresadas de la Universidad de Oviedo\, el Foro de Empleo es una oport
 unidad única para:\n\n 	Mejorar el curriculum vitae\, construyendo un per
 fil enriquecido de talento.\n 	Fortalecer las competencias transversales (
 soft skills).\n 	Conocer y contactar con las empresas e instituciones pres
 entes en el Foro.\n 	Asistir a masterclass y mesas redondas en las que se 
 abordarán las nuevas tendencias y oportunidades del mercado de trabajo.\n
  	Participar en talleres prácticos relacionados con empleabilidad y empre
 ndimiento.\n 	Mejorar tu CV gracias al asesoramiento de expertos y experta
 s en RR.HH.\n 	Actualizar y hacer más atractivo tu perfil de LinkedIn gra
 cias al apoyo de profesionales.\n 	Entrenar tus competencias para afrontar
  entrevistas de trabajo.\n 	Poner a prueba tus habilidades emprendedoras p
 ara solucionar problemas complejos.\n\nDesde Aedipe Asturias participamos 
 una edición más\, como profesionales de Recursos Humanos aportando nuest
 ra experiencia en las actividades de:\n\n 	Revisión de CV\n 	Revisión de
  perfiles de Linkedin\n 	Speed Job Dating\n\nEstaremos en horario de tarde
  de 16 a 19 h\,  los días 5 y 6 de octubre.\n\nOs dejamos toda la inform
 ación para las inscripciones en este link https://www.unioviedo.es/foro_e
 mpleo/
ATTACH;FMTTYPE=image/jpeg:https://www.aedipeasturias.es/wp-content/uploads
 /2022/09/2022-09-30-2.png
CATEGORIES:Colaboración
END:VEVENT
BEGIN:VTIMEZONE
TZID:Europe/Madrid
X-LIC-LOCATION:Europe/Madrid
BEGIN:DAYLIGHT
DTSTART:20220327T030000
TZOFFSETFROM:+0100
TZOFFSETTO:+0200
TZNAME:CEST
END:DAYLIGHT
END:VTIMEZONE
END:VCALENDAR